BEGIN:VCALENDAR
VERSION:2.0
PRODID:-//STARCO - ECPv6.15.14//NONSGML v1.0//EN
CALSCALE:GREGORIAN
METHOD:PUBLISH
X-WR-CALNAME:STARCO
X-ORIGINAL-URL:https://www.steelvillearts.org
X-WR-CALDESC:Events for STARCO
REFRESH-INTERVAL;VALUE=DURATION:PT1H
X-Robots-Tag:noindex
X-PUBLISHED-TTL:PT1H
BEGIN:VTIMEZONE
TZID:America/Chicago
BEGIN:DAYLIGHT
TZOFFSETFROM:-0600
TZOFFSETTO:-0500
TZNAME:CDT
DTSTART:20230312T080000
END:DAYLIGHT
BEGIN:STANDARD
TZOFFSETFROM:-0500
TZOFFSETTO:-0600
TZNAME:CST
DTSTART:20231105T070000
END:STANDARD
BEGIN:DAYLIGHT
TZOFFSETFROM:-0600
TZOFFSETTO:-0500
TZNAME:CDT
DTSTART:20240310T080000
END:DAYLIGHT
BEGIN:STANDARD
TZOFFSETFROM:-0500
TZOFFSETTO:-0600
TZNAME:CST
DTSTART:20241103T070000
END:STANDARD
BEGIN:DAYLIGHT
TZOFFSETFROM:-0600
TZOFFSETTO:-0500
TZNAME:CDT
DTSTART:20250309T080000
END:DAYLIGHT
BEGIN:STANDARD
TZOFFSETFROM:-0500
TZOFFSETTO:-0600
TZNAME:CST
DTSTART:20251102T070000
END:STANDARD
BEGIN:DAYLIGHT
TZOFFSETFROM:-0600
TZOFFSETTO:-0500
TZNAME:CDT
DTSTART:20260308T080000
END:DAYLIGHT
BEGIN:STANDARD
TZOFFSETFROM:-0500
TZOFFSETTO:-0600
TZNAME:CST
DTSTART:20261101T070000
END:STANDARD
BEGIN:DAYLIGHT
TZOFFSETFROM:-0600
TZOFFSETTO:-0500
TZNAME:CDT
DTSTART:20270314T080000
END:DAYLIGHT
BEGIN:STANDARD
TZOFFSETFROM:-0500
TZOFFSETTO:-0600
TZNAME:CST
DTSTART:20271107T070000
END:STANDARD
END:VTIMEZONE
BEGIN:VEVENT
DTSTART;TZID=America/Chicago:20260411T160000
DTEND;TZID=America/Chicago:20260411T200000
DTSTAMP:20260421T205528
CREATED:20260318T141446Z
LAST-MODIFIED:20260318T141724Z
UID:3200-1775923200-1775937600@www.steelvillearts.org
SUMMARY:Fundraiser for High School Plein Air
DESCRIPTION:Steelville Arts Council will be hosting our 5th Annual High School Plein Air event this year 25 local high school students will get the chance to grow their skills. All lodging\, meals and art kit are provided to each student at no cost. All proceeds will go directly to supporting the High School Plein Air weekend. \nGet your tickets. $20 per person\nReceive first Singo Card and Glass\nDoors open at 4pm\nFun and games begin at 5pm \n\nSingo Games\nRaffles\nAuction Table\nLive Auction.\n\nGet your tickets here online\, at Gallery Zeke or Heartland Arts. \nQuestions: Contact Christine Smaileys 816-225-5351
URL:https://www.steelvillearts.org/event/highschool-plein-air-fundraiser/
LOCATION:Steelville Country Cluub\, 269 MO-8\, Steelville\, MO\, 65565\, United States
ATTACH;FMTTYPE=image/jpeg:https://www.steelvillearts.org/wp-content/uploads/2026/03/HSPA-fundraiser-2026-us-this-one.jpg
END:VEVENT
BEGIN:VEVENT
DTSTART;VALUE=DATE:20260306
DTEND;VALUE=DATE:20260329
DTSTAMP:20260421T205528
CREATED:20260312T173902Z
LAST-MODIFIED:20260312T185643Z
UID:3176-1772755200-1774742399@www.steelvillearts.org
SUMMARY:Steelville Sr High Artists
DESCRIPTION:March 6 – 28: Steelville Sr High Artists
URL:https://www.steelvillearts.org/event/steelville-sr-high-artists/
END:VEVENT
BEGIN:VEVENT
DTSTART;TZID=America/Chicago:20251101T080000
DTEND;TZID=America/Chicago:20251213T170000
DTSTAMP:20260421T205528
CREATED:20250212T211318Z
LAST-MODIFIED:20260116T193157Z
UID:2699-1761984000-1765645200@www.steelvillearts.org
SUMMARY:Ozarks Potters Guild "Annual Pottery Show"
DESCRIPTION:The Ozark Potters Guild never disappoints! This annual show is a hit every year and lots of holiday gifts or a treat for yourself are available thru’ mid-December. \n11-4 Friday/Saturday\n11-3 Sunday \nRECEPTION November 29th 1-5pm \nhttps://www.facebook.com/share/p/1BoneCujfp/
URL:https://www.steelvillearts.org/event/ozarks-potters-guild-annual-pottery-show/
LOCATION:Gallery Zeke\, Steelville\, United States
ATTACH;FMTTYPE=image/png:https://www.steelvillearts.org/wp-content/uploads/2025/02/image-1-2.png
END:VEVENT
BEGIN:VEVENT
DTSTART;TZID=America/Chicago:20251025T100000
DTEND;TZID=America/Chicago:20251025T150000
DTSTAMP:20260421T205528
CREATED:20250719T212446Z
LAST-MODIFIED:20250719T212510Z
UID:3113-1761386400-1761404400@www.steelvillearts.org
SUMMARY:Festival of Arts
DESCRIPTION:Festival of Arts\nOCTOBER 25\, 2025 10am-3pm\nat Heartland Arts Gifts and Gallery\n303 West Main Street\, Steelville\, Mo 65565 \nREGISTER HERE
URL:https://www.steelvillearts.org/event/festival-of-arts/
LOCATION:Heartland Arts Gifts & Gallery\, 303 Main Street\, Steelville\, 65565\, United States
END:VEVENT
BEGIN:VEVENT
DTSTART;TZID=America/Chicago:20251003T080000
DTEND;TZID=America/Chicago:20251025T170000
DTSTAMP:20260421T205528
CREATED:20250212T210305Z
LAST-MODIFIED:20250212T210307Z
UID:2696-1759478400-1761411600@www.steelvillearts.org
SUMMARY:Woodcarving/Woodcraft "Into the Wood"
DESCRIPTION:Wood can be made into so many beautiful things! We are trying to represent as many as possible\, made by local area craftsmen and artists.\n\n\n11-4 Friday/Saturday\n11-3 Sunday\n\nRECEPTION October 3rd 4-7pm\n\nCALL FOR ARTISTS
URL:https://www.steelvillearts.org/event/woodcarving-woodcraft-into-the-wood/
LOCATION:Gallery Zeke\, Steelville\, United States
ATTACH;FMTTYPE=image/png:https://www.steelvillearts.org/wp-content/uploads/2025/02/image-1-1.png
END:VEVENT
BEGIN:VEVENT
DTSTART;TZID=America/Chicago:20250905T110000
DTEND;TZID=America/Chicago:20250927T160000
DTSTAMP:20260421T205528
CREATED:20250212T210027Z
LAST-MODIFIED:20250212T210530Z
UID:2693-1757070000-1758988800@www.steelvillearts.org
SUMMARY:Folk/Primitive Art "Americana: Folk & Primitive Art"
DESCRIPTION:Folk and Primitive art has been made by American artists since the beginning of our country. The art can take many surprising forms. \n11-4 Friday/Saturday\n11-3 Sunday \nRECEPTION September 5th 4-7pm \nCALL FOR ARTISTS
URL:https://www.steelvillearts.org/event/folk-primitive-art-americana-folk-primitive-art/
LOCATION:Gallery Zeke\, Steelville\, United States
ATTACH;FMTTYPE=image/png:https://www.steelvillearts.org/wp-content/uploads/2025/02/unnamed-1.png
END:VEVENT
BEGIN:VEVENT
DTSTART;TZID=America/Chicago:20250801T110000
DTEND;TZID=America/Chicago:20250830T160000
DTSTAMP:20260421T205528
CREATED:20250212T205316Z
LAST-MODIFIED:20250212T210540Z
UID:2687-1754046000-1756569600@www.steelvillearts.org
SUMMARY:Animals in Art "EIEIO: Farm Animals in Art"
DESCRIPTION:Everyone loves cute farm animals. Anything that can moo\, baa\, oink\, cluck\, bark\, purr etc may be seen in this fun show of our animal friends. \n11-4 Friday/Saturday\n11-3 Sunday \nRECEPTION August 1 4-7pm \nCALL FOR ARTISTS
URL:https://www.steelvillearts.org/event/animals-in-art-eieio-farm-animals-in-art/
LOCATION:Gallery Zeke\, Steelville\, United States
ATTACH;FMTTYPE=image/png:https://www.steelvillearts.org/wp-content/uploads/2025/02/image-1.png
END:VEVENT
BEGIN:VEVENT
DTSTART;TZID=America/Chicago:20250801T110000
DTEND;TZID=America/Chicago:20250803T170000
DTSTAMP:20260421T205528
CREATED:20250716T160026Z
LAST-MODIFIED:20250716T160028Z
UID:3097-1754046000-1754240400@www.steelvillearts.org
SUMMARY:Show Me Artists Retreat at Lost Hill Lake
DESCRIPTION:Artists and Crafters are invited to the SHOW ME ARTISTS: Artists & Entrepreneurs Retreat this August 1st-3rd at Lost Hill Lake in St. Clair\, MO. \nShow Me Artists is a Midwest Art Collective focused on creating opportunities for artists to network and provide business support. The goal with this event is to provide a super relaxed space for creatives to chill and network\, make art or just relax and explore. Camping and vending is included. The last day Sunday 3rd is also an Open Lake Day Art Fair for the public to swim and shop local art from anyone that wants to vend on Sun. You can come any day\, or just vend on Sun. \nAny artist or entrepreneur also gets a professional photoshoot and video interview included if they want. \nIt’s a beautiful private lake property to hike\, swim\, explore\, or just relax and network with others. Perfect place to paint Plain Air around the lake. \nNext to car camping included. RVs welcome. Glampers are still available to rent as well. Or simply come and go as they please. \nVideo tour of property:\nhttps://www.youtube.com/watch?v=_0exoxae1hI\n\nTickets: $100 weekend / $75 two-day / $50 one-day\nhttps://solarium.ticketspice.com/radiant-elemental-adventure-retreat\n\nOfficial Website:\nwww.RadiantAdventure.com \nFacebook Event Page:\nhttps://www.facebook.com/events/1147555207153118
URL:https://www.steelvillearts.org/event/show-me-artists-retreat-at-lost-hill-lake/
LOCATION:Lost Hill Lake\, 2300 Mill Hill Rd\, St. Clair\, MO\, 63077\, United States
ATTACH;FMTTYPE=image/jpeg:https://www.steelvillearts.org/wp-content/uploads/2025/07/RADIANT-Show-Me-Artists-Retreat-AUG1-3-scaled.jpg
ORGANIZER;CN="Show Me Artists":MAILTO:josh@ShowMeArtists.com
END:VEVENT
BEGIN:VEVENT
DTSTART;TZID=America/Chicago:20250704T110000
DTEND;TZID=America/Chicago:20250726T160000
DTSTAMP:20260421T205528
CREATED:20250212T204732Z
LAST-MODIFIED:20250212T210650Z
UID:2682-1751626800-1753545600@www.steelvillearts.org
SUMMARY:Photography "Focus Pocus"
DESCRIPTION:This is the first photography show we’ve done in a while and it is going to be a spectacular one featuring many new artists. \n11-4 Friday/Saturday\n11-3 Sunday \nRECEPTION July 5th 4-7pm \nCALL FOR ARTISTS
URL:https://www.steelvillearts.org/event/photography-focus-pocus/
LOCATION:Gallery Zeke\, Steelville\, United States
ATTACH;FMTTYPE=image/png:https://www.steelvillearts.org/wp-content/uploads/2025/02/image.png
END:VEVENT
BEGIN:VEVENT
DTSTART;VALUE=DATE:20250531
DTEND;VALUE=DATE:20250601
DTSTAMP:20260421T205528
CREATED:20250212T212413Z
LAST-MODIFIED:20250212T212416Z
UID:2711-1748649600-1748735999@www.steelvillearts.org
SUMMARY:Folky Fish
DESCRIPTION:
URL:https://www.steelvillearts.org/event/folky-fish/
END:VEVENT
BEGIN:VEVENT
DTSTART;TZID=America/Chicago:20250520T173000
DTEND;TZID=America/Chicago:20250520T173000
DTSTAMP:20260421T205528
CREATED:20250501T044825Z
LAST-MODIFIED:20250501T044920Z
UID:2817-1747762200-1747762200@www.steelvillearts.org
SUMMARY:Dinner on the Deck - Heartland Arts Fundraiser
DESCRIPTION:
URL:https://www.steelvillearts.org/event/dinner-on-the-deck-heartland-arts-fundraiser/
LOCATION:Main Deck\, 115 Main\, Steelville\, MO
ATTACH;FMTTYPE=image/png:https://www.steelvillearts.org/wp-content/uploads/2025/04/Screen-Shot-2025-04-30-at-11.36.16-PM.png
END:VEVENT
BEGIN:VEVENT
DTSTART;TZID=America/Chicago:20250510T110000
DTEND;TZID=America/Chicago:20250510T160000
DTSTAMP:20260421T205528
CREATED:20250212T211915Z
LAST-MODIFIED:20250212T211959Z
UID:2706-1746874800-1746892800@www.steelvillearts.org
SUMMARY:ARTrageous at Heartland Arts
DESCRIPTION:
URL:https://www.steelvillearts.org/event/artrageous-at-heartland-arts/
LOCATION:Heartland Arts Gifts & Gallery\, 303 Main Street\, Steelville\, 65565\, United States
ATTACH;FMTTYPE=image/jpeg:https://www.steelvillearts.org/wp-content/uploads/2025/02/HA-outside-scaled.jpg
END:VEVENT
BEGIN:VEVENT
DTSTART;TZID=America/Chicago:20250502T110000
DTEND;TZID=America/Chicago:20250524T160000
DTSTAMP:20260421T205528
CREATED:20250212T204153Z
LAST-MODIFIED:20250212T210601Z
UID:2680-1746183600-1748102400@www.steelvillearts.org
SUMMARY:Art Created by Veterans "Thank You for your Service and Your Art"
DESCRIPTION:During the month of Memorial Day we are commemorating and honoring our Veterans by displaying their artwork.\n11-4 Friday/Saturday\n11-3 Sunday \nCALL FOR ARTISTS
URL:https://www.steelvillearts.org/event/art-created-by-veterans-thank-you-for-your-service-and-your-art/
LOCATION:Gallery Zeke\, Steelville\, United States
END:VEVENT
BEGIN:VEVENT
DTSTART;TZID=America/Chicago:20250426T130000
DTEND;TZID=America/Chicago:20250426T170000
DTSTAMP:20260421T205528
CREATED:20250407T202206Z
LAST-MODIFIED:20250407T202207Z
UID:2794-1745672400-1745686800@www.steelvillearts.org
SUMMARY:Yes\, You Can Paint!
DESCRIPTION:April 26 at 1pm to 4-5 pm \n$30.00 paid day of \nAdults 18 and older Limit 10 \nWe will use acrylic and texture to create a modern style mountain scene. All supplies are included. \nREGISTER HERE: https://www.steelvillearts.org/yes-you-can-paint
URL:https://www.steelvillearts.org/event/yes-you-can-paint/
LOCATION:Gallery Zeke\, Steelville\, United States
END:VEVENT
BEGIN:VEVENT
DTSTART;TZID=America/Chicago:20250412T130000
DTEND;TZID=America/Chicago:20250412T170000
DTSTAMP:20260421T205528
CREATED:20250223T021037Z
LAST-MODIFIED:20250223T021351Z
UID:2727-1744462800-1744477200@www.steelvillearts.org
SUMMARY:Little Golden Books to Journals Workshop
DESCRIPTION:Join us for a creative workshop transform little golden books into beautiful journals!\nIn this hands-on workshop you will learn to repurpose these beloved childhood treasures into a beautiful personalized journal. \nChoose from our collection or bring your favorite “little golden book”. Let your creativity shine and take home a one-of-a-kind journal perfect to keep or give. \nAll materials provided\nadults only\nlimited to eight people\n$25 per person \nRegister Here
URL:https://www.steelvillearts.org/event/little-golden-books-to-journals-workshop/
LOCATION:Heartland Arts Gifts & Gallery\, 303 Main Street\, Steelville\, 65565\, United States
ATTACH;FMTTYPE=image/jpeg:https://www.steelvillearts.org/wp-content/uploads/2025/02/Golden-Books-flyer-2-scaled.jpg
END:VEVENT
BEGIN:VEVENT
DTSTART;TZID=America/Chicago:20250405T130000
DTEND;TZID=America/Chicago:20250405T153000
DTSTAMP:20260421T205528
CREATED:20250304T033602Z
LAST-MODIFIED:20250326T020615Z
UID:2739-1743858000-1743867000@www.steelvillearts.org
SUMMARY:Make a Pysanky Egg for Easter
DESCRIPTION:“Make a Pysanky Egg for Easter”\n  \nDate: April 5th\nLocation: Heartland Arts Gifts and Gallery\nTime: 1:00 to 3:30pm\nCost: $20\nAges: 8 yrs to adult\nClass size: 8 to 10\nREGISTER HERE
URL:https://www.steelvillearts.org/event/make-a-pysanky-egg-for-easter/
LOCATION:Heartland Arts Gifts & Gallery\, 303 Main Street\, Steelville\, 65565\, United States
ATTACH;FMTTYPE=image/png:https://www.steelvillearts.org/wp-content/uploads/2025/03/eggs.png
END:VEVENT
BEGIN:VEVENT
DTSTART;TZID=America/Chicago:20250404T110000
DTEND;TZID=America/Chicago:20250419T160000
DTSTAMP:20260421T205528
CREATED:20250212T203925Z
LAST-MODIFIED:20250321T201136Z
UID:2678-1743764400-1745078400@www.steelvillearts.org
SUMMARY:Gasconade Valley Conference
DESCRIPTION:This juried show combines 15 categories of art from our 6 local high schools. Lots and lots to see! \nShow opens on the 4th with a Reception on the 5th from 11am to 1pm \n11-4 Friday/Saturday\n11-3 Sunday
URL:https://www.steelvillearts.org/event/gasconade-valley-conference/
LOCATION:Gallery Zeke\, Steelville\, United States
END:VEVENT
BEGIN:VEVENT
DTSTART;TZID=America/Chicago:20250308T130000
DTEND;TZID=America/Chicago:20250308T160000
DTSTAMP:20260421T205528
CREATED:20250117T180133Z
LAST-MODIFIED:20250117T180133Z
UID:2613-1741438800-1741449600@www.steelvillearts.org
SUMMARY:St. Patricks Paint and Sip
DESCRIPTION:REGISTER HERE
URL:https://www.steelvillearts.org/event/st-patricks-paint-and-sip/
LOCATION:Heartland Arts Gifts & Gallery\, 303 Main Street\, Steelville\, 65565\, United States
ATTACH;FMTTYPE=image/jpeg:https://www.steelvillearts.org/wp-content/uploads/2025/01/starco-st-pats.jpg
END:VEVENT
BEGIN:VEVENT
DTSTART;VALUE=DATE:20250307
DTEND;VALUE=DATE:20250330
DTSTAMP:20260421T205528
CREATED:20250212T203558Z
LAST-MODIFIED:20250212T203559Z
UID:2670-1741305600-1743292799@www.steelvillearts.org
SUMMARY:Barb Bryan Retrospective "A Life In Art" & Steelville HS Student Art
DESCRIPTION:Barb Bryan was a founding mother of STARCO and a lifelong artist and teacher. This retrospective of her work blends perfectly with featured art from Steelville HS art students. \n  
URL:https://www.steelvillearts.org/event/barb-bryan-retrospective-a-life-in-art-steelville-hs-student-art/
LOCATION:Gallery Zeke\, Steelville\, United States
ATTACH;FMTTYPE=image/png:https://www.steelvillearts.org/wp-content/uploads/2025/02/barb1.png
END:VEVENT
BEGIN:VEVENT
DTSTART;VALUE=DATE:20241101
DTEND;VALUE=DATE:20241201
DTSTAMP:20260421T205528
CREATED:20241003T195718Z
LAST-MODIFIED:20241003T195719Z
UID:2565-1730419200-1733011199@www.steelvillearts.org
SUMMARY:Ozark Potters Guild
DESCRIPTION:
URL:https://www.steelvillearts.org/event/ozark-potters-guild/
END:VEVENT
BEGIN:VEVENT
DTSTART;TZID=America/Chicago:20241026T100000
DTEND;TZID=America/Chicago:20241026T170000
DTSTAMP:20260421T205528
CREATED:20241003T195634Z
LAST-MODIFIED:20241003T195634Z
UID:2563-1729936800-1729962000@www.steelvillearts.org
SUMMARY:Art Squared Final Bids & Reception
DESCRIPTION:
URL:https://www.steelvillearts.org/event/art-squared-final-bids-reception/
END:VEVENT
BEGIN:VEVENT
DTSTART;TZID=America/Chicago:20241025T170000
DTEND;TZID=America/Chicago:20241025T210000
DTSTAMP:20260421T205528
CREATED:20241003T195520Z
LAST-MODIFIED:20241003T195520Z
UID:2559-1729875600-1729890000@www.steelvillearts.org
SUMMARY:Witches Night Out
DESCRIPTION:
URL:https://www.steelvillearts.org/event/witches-night-out/
END:VEVENT
BEGIN:VEVENT
DTSTART;VALUE=DATE:20241004
DTEND;VALUE=DATE:20241027
DTSTAMP:20260421T205528
CREATED:20240415T201255Z
LAST-MODIFIED:20241003T200005Z
UID:1761-1728000000-1729987199@www.steelvillearts.org
SUMMARY:Art Squared Silent Auction
DESCRIPTION:   Art Squared Silent Auction \n\nWhen: October 4th until 4 pm October 26th \nWhere: Gallery Zeke
URL:https://www.steelvillearts.org/event/art-squared-silent-auction/
LOCATION:Gallery Zeke\, Steelville\, United States
END:VEVENT
BEGIN:VEVENT
DTSTART;VALUE=DATE:20240921
DTEND;VALUE=DATE:20240924
DTSTAMP:20260421T205528
CREATED:20240415T200804Z
LAST-MODIFIED:20240415T200805Z
UID:1759-1726876800-1727135999@www.steelvillearts.org
SUMMARY:Budding Artists Adult Paint Retreat
DESCRIPTION:Budding Artists Adult Paint Retreat \n\nWhen: Friday September 21st\, Saturday 22nd\,  Sunday 23rd \nWhere: Mound Ridge Retreat Center\nWho: Anyone 21 years and older who is interested learning to paint with watercolors or acrylics\nDetails: Cost of $300 includes\, professional mentors to teach and guide you\,      \nLodging\, all meals\, snacks\, a kit with all supplies\nLook for an on-line registration form at SteelvilleArtsCouncil.org\n\n               For questions call: Christine Smailys 816-225-5351\, Phil Lebo 271-728-8898 or Jim Trippensee 314-541-2859
URL:https://www.steelvillearts.org/event/budding-artists-adult-paint-retreat/
END:VEVENT
BEGIN:VEVENT
DTSTART;TZID=America/Chicago:20240831T110000
DTEND;TZID=America/Chicago:20240928T160000
DTSTAMP:20260421T205528
CREATED:20240711T080013Z
LAST-MODIFIED:20240711T080120Z
UID:2471-1725102000-1727539200@www.steelvillearts.org
SUMMARY:2024 Quilt Show And Sell Show
DESCRIPTION:Steelville Arts Council presents – Show and Sell Quilt Show Entry Form \nShow dates: August 31 – September 28\, 2024 \nGallery Zeke\, 110 E Main Street\, Steelville\, MO 65565 \nEntry fee $10.00 per quilt\, up to 5 quilts\, complete one form for EACH quilt submitted. In order to know how many quilts to prepare to hang\, ENTRY DEADLINE is August 17\, 2024.  QUILTS SUBMITTED IN 2023 SHOW AND SELL QUILT SHOW ARE EXCLUDED.  \nSubmit Online Registration and Payment:\nOnline Quilt Show Registration Form \nPrint 2024 Quilt Entry Form \n   \n  \n 
URL:https://www.steelvillearts.org/event/2024-quilt-show-and-sell-show/
LOCATION:Gallery Zeke\, Steelville\, United States
ATTACH;FMTTYPE=image/png:https://www.steelvillearts.org/wp-content/uploads/2024/07/Purple-Minimalist-Elegant-Quilt-Show-2.png
END:VEVENT
BEGIN:VEVENT
DTSTART;TZID=America/Chicago:20240817T130000
DTEND;TZID=America/Chicago:20240817T160000
DTSTAMP:20260421T205528
CREATED:20240807T134321Z
LAST-MODIFIED:20240807T134322Z
UID:2477-1723899600-1723910400@www.steelvillearts.org
SUMMARY:Animal Scratch Art
DESCRIPTION:Come out and join Patty Burmeister in creating Animal Scratch Art! A clay tablet is coated with India Ink and the pictures are traced and etched in! \nThe class will be held Saturday\, August 17th from 1 to 4pm under the pavilion at Heartland Arts Gifts and Gallery.\nAll Materials will be provided. \nPayment of $25 cash or Venmo required at time of the class. Class size is limited to 10 students. \nHeartland Arts Gifts and Gallery\n303 Main Street\nSteelville\, MO 65565
URL:https://www.steelvillearts.org/event/animal-scratch-art/
LOCATION:Heartland Arts Gifts & Gallery\, 303 Main Street\, Steelville\, 65565\, United States
END:VEVENT
BEGIN:VEVENT
DTSTART;TZID=America/Chicago:20240705T110000
DTEND;TZID=America/Chicago:20240824T150000
DTSTAMP:20260421T205528
CREATED:20240704T003537Z
LAST-MODIFIED:20240704T003538Z
UID:2424-1720177200-1724511600@www.steelvillearts.org
SUMMARY:Whimsical\, Comical\, or Just Odd!
DESCRIPTION:Whimsical\, Comical\, or Just Odd!\nJuly 5 – Aug 24\, 2024 \nGALLERY ZEKE\n110 E MAIN\,\nSTEELVILLE\, MO \nFridays &; Saturdays 11a.m. to 4p.m.\nSunday (except last Sunday of the month) 11a.m.-3p.m. \nReception open to the public July 5th \, 4 to 7p.m.
URL:https://www.steelvillearts.org/event/whimsical-comical-or-just-odd/
LOCATION:Gallery Zeke\, Steelville\, United States
END:VEVENT
BEGIN:VEVENT
DTSTART;VALUE=DATE:20240614
DTEND;VALUE=DATE:20240630
DTSTAMP:20260421T205528
CREATED:20240209T034514Z
LAST-MODIFIED:20240326T193738Z
UID:902-1718323200-1719705599@www.steelvillearts.org
SUMMARY:Art of Plein Air 2024
DESCRIPTION:This exhibit consists of the paintings created during the Plein Air Event that certain artists choose to leave for the duration of the month.
URL:https://www.steelvillearts.org/event/art-of-plein-air-2024/
END:VEVENT
BEGIN:VEVENT
DTSTART;TZID=America/Chicago:20240608T100000
DTEND;TZID=America/Chicago:20240608T140000
DTSTAMP:20260421T205528
CREATED:20240415T195811Z
LAST-MODIFIED:20240415T195811Z
UID:1757-1717840800-1717855200@www.steelvillearts.org
SUMMARY: Community Plein Air Sale Day-Street Fair
DESCRIPTION: Community Plein Air Sale Day-Street Fair \n\nWhen: Saturday June 8th \, 10 am to 2 pm\nWhere: Gallery Zeke and grounds\nFood vendors\nArtists selling their art painted during the past week of Plein Air
URL:https://www.steelvillearts.org/event/community-plein-air-sale-day-street-fair/
LOCATION:Gallery Zeke\, Steelville\, United States
END:VEVENT
BEGIN:VEVENT
DTSTART;VALUE=DATE:20240531
DTEND;VALUE=DATE:20240603
DTSTAMP:20260421T205528
CREATED:20240405T050202Z
LAST-MODIFIED:20240405T050857Z
UID:1686-1717113600-1717372799@www.steelvillearts.org
SUMMARY:High School Plein Air Retreat
DESCRIPTION:The French Term Plein Air means “out of doors” and refers to the practice of painting outdoor.\nEnroll Here \nSteelville Arts Council (STARCO) is proud to present the 3rd annual HSPA retreat. Over the past 12 years STARCO has hosted the annual Plein Air event in the Steelville area featuring artists from around the Midwest. We are excited to share the details of our 3rd High School Plein Air with your school. \nThe students will learn the fundamentals of plein air painting\, working with mentors and guest artists each day. The event will take place from 9am on Friday May 31st\, 2024\, through 4pm on Sunday June 2nd\, 2024. The High School Plein Air will be hosted at the Mound Ridge Retreat Center (moundridge.org). \nWe are asking the art teachers in the surrounding area high schools to share with art students and invite them to participate in this weekend-long event. Our goal is a total of 15 to 20 students. We invite art teachers to attend as well. \nFollowing are the requirements for those students selected: \n\nCurrently enrolled as a freshman\, sophomore\, junior or senior\nDemonstrating a sincere desire to continue to grow\, learn and share their talents\nSelected students must be able to commit to the dates May 31st to June 2nd\, 2024.\nStudents will be provided with lodging\, all meals/snacks and art materials for the weekend. They will be expected to stay overnight at the lodge on Friday and Saturday. There will be chaperones and separate lodging for the girls and for the boys.At the end of the retreat a reception will be held for friends\, family\, and community to view and/or purchase artwork showcased at Gallery Zeke. The artwork will be on display during the regular Plein Air event the following week.\nThe cost for the retreat is $500 per student\, which will be taken care of by the Steelville Arts Council. However\, a deposit of $50 will be required to reserve the students spot. This deposit will be refunded on Sunday at the reception to everyone who participated Friday through Sunday. \nWe at STARCO are very excited to offer this opportunity to up and coming youth artists in the community. Our ongoing mission is to promote arts in our community through awareness\, appreciation\, education\, and support; creating a connection between artists and audiences to enrich the quality of life for all. We appreciate your support in this endeavor. \nPlease contact Christine Smailys at christines7andmain@att.net or 816-225-5351 or Robin Adkins at radkins8@sbcglobal.net or 314-724-0316 with any additional questions.
URL:https://www.steelvillearts.org/event/high-school-plein-air-retreat/
ATTACH;FMTTYPE=image/jpeg:https://www.steelvillearts.org/wp-content/uploads/2024/04/HSPA-2022-Students-scaled.jpeg
END:VEVENT
END:VCALENDAR