BEGIN:VCALENDAR
VERSION:2.0
PRODID:-//STARCO - ECPv6.15.14//NONSGML v1.0//EN
CALSCALE:GREGORIAN
METHOD:PUBLISH
X-ORIGINAL-URL:https://www.steelvillearts.org
X-WR-CALDESC:Events for STARCO
REFRESH-INTERVAL;VALUE=DURATION:PT1H
X-Robots-Tag:noindex
X-PUBLISHED-TTL:PT1H
BEGIN:VTIMEZONE
TZID:America/Chicago
BEGIN:DAYLIGHT
TZOFFSETFROM:-0600
TZOFFSETTO:-0500
TZNAME:CDT
DTSTART:20250309T080000
END:DAYLIGHT
BEGIN:STANDARD
TZOFFSETFROM:-0500
TZOFFSETTO:-0600
TZNAME:CST
DTSTART:20251102T070000
END:STANDARD
BEGIN:DAYLIGHT
TZOFFSETFROM:-0600
TZOFFSETTO:-0500
TZNAME:CDT
DTSTART:20260308T080000
END:DAYLIGHT
BEGIN:STANDARD
TZOFFSETFROM:-0500
TZOFFSETTO:-0600
TZNAME:CST
DTSTART:20261101T070000
END:STANDARD
BEGIN:DAYLIGHT
TZOFFSETFROM:-0600
TZOFFSETTO:-0500
TZNAME:CDT
DTSTART:20270314T080000
END:DAYLIGHT
BEGIN:STANDARD
TZOFFSETFROM:-0500
TZOFFSETTO:-0600
TZNAME:CST
DTSTART:20271107T070000
END:STANDARD
END:VTIMEZONE
BEGIN:VEVENT
DTSTART;VALUE=DATE:20260703
DTEND;VALUE=DATE:20260726
DTSTAMP:20260421T221601
CREATED:20260312T175201Z
LAST-MODIFIED:20260312T175202Z
UID:3188-1783036800-1785023999@www.steelvillearts.org
SUMMARY:Rte 66 and Featured Artist
DESCRIPTION:July 3 – 25: Rte 66 and Featured Artist
URL:https://www.steelvillearts.org/event/rte-66-and-featured-artist/
END:VEVENT
BEGIN:VEVENT
DTSTART;VALUE=DATE:20260807
DTEND;VALUE=DATE:20260830
DTSTAMP:20260421T221601
CREATED:20260312T180557Z
LAST-MODIFIED:20260312T180559Z
UID:3190-1786060800-1788047999@www.steelvillearts.org
SUMMARY:Upcycled & Fabulous!
DESCRIPTION:August 7 – 29: Upcycled & Fabulous!
URL:https://www.steelvillearts.org/event/upcycled-fabulous/
END:VEVENT
BEGIN:VEVENT
DTSTART;VALUE=DATE:20260904
DTEND;VALUE=DATE:20260927
DTSTAMP:20260421T221601
CREATED:20260312T181437Z
LAST-MODIFIED:20260312T181437Z
UID:3192-1788480000-1790467199@www.steelvillearts.org
SUMMARY:Photography
DESCRIPTION:September 4 – 26: Photography\n    Reception Sept 4 –  4:00 to 7:00
URL:https://www.steelvillearts.org/event/photography/
END:VEVENT
BEGIN:VEVENT
DTSTART;VALUE=DATE:20261002
DTEND;VALUE=DATE:20261025
DTSTAMP:20260421T221601
CREATED:20260312T183747Z
LAST-MODIFIED:20260312T183748Z
UID:3194-1790899200-1792886399@www.steelvillearts.org
SUMMARY:Art Squared Returns!
DESCRIPTION:October 2 – 24 Art Squared Returns!\nReception Oct 24 4:00 to 8:00
URL:https://www.steelvillearts.org/event/art-squared-returns/
END:VEVENT
BEGIN:VEVENT
DTSTART;VALUE=DATE:20261106
DTEND;VALUE=DATE:20261113
DTSTAMP:20260421T221601
CREATED:20260312T183917Z
LAST-MODIFIED:20260312T183918Z
UID:3196-1793923200-1794527999@www.steelvillearts.org
SUMMARY:Ozark Pottery Guild Annual Show
DESCRIPTION:Nov 6 – Dec 12: Ozark Pottery Guild Annual Show\nReception Nov 6 – 4:00 to 7:00
URL:https://www.steelvillearts.org/event/ozark-pottery-guild-annual-show/
END:VEVENT
END:VCALENDAR