BEGIN:VCALENDAR
VERSION:2.0
PRODID:-//STARCO - ECPv6.15.14//NONSGML v1.0//EN
CALSCALE:GREGORIAN
METHOD:PUBLISH
X-WR-CALNAME:STARCO
X-ORIGINAL-URL:https://www.steelvillearts.org
X-WR-CALDESC:Events for STARCO
REFRESH-INTERVAL;VALUE=DURATION:PT1H
X-Robots-Tag:noindex
X-PUBLISHED-TTL:PT1H
BEGIN:VTIMEZONE
TZID:America/Chicago
BEGIN:DAYLIGHT
TZOFFSETFROM:-0600
TZOFFSETTO:-0500
TZNAME:CDT
DTSTART:20230312T080000
END:DAYLIGHT
BEGIN:STANDARD
TZOFFSETFROM:-0500
TZOFFSETTO:-0600
TZNAME:CST
DTSTART:20231105T070000
END:STANDARD
BEGIN:DAYLIGHT
TZOFFSETFROM:-0600
TZOFFSETTO:-0500
TZNAME:CDT
DTSTART:20240310T080000
END:DAYLIGHT
BEGIN:STANDARD
TZOFFSETFROM:-0500
TZOFFSETTO:-0600
TZNAME:CST
DTSTART:20241103T070000
END:STANDARD
BEGIN:DAYLIGHT
TZOFFSETFROM:-0600
TZOFFSETTO:-0500
TZNAME:CDT
DTSTART:20250309T080000
END:DAYLIGHT
BEGIN:STANDARD
TZOFFSETFROM:-0500
TZOFFSETTO:-0600
TZNAME:CST
DTSTART:20251102T070000
END:STANDARD
END:VTIMEZONE
BEGIN:VEVENT
DTSTART;TZID=America/Chicago:20240323T100000
DTEND;TZID=America/Chicago:20240323T160000
DTSTAMP:20260422T024150
CREATED:20240313T182657Z
LAST-MODIFIED:20240313T182658Z
UID:1568-1711188000-1711209600@www.steelvillearts.org
SUMMARY:Strong Like You - Book Signing
DESCRIPTION:“Strong Like You” Book Signing \nMarch 23rd 10am – 4pm \n 
URL:https://www.steelvillearts.org/event/strong-like-you-book-signing/
LOCATION:Gallery Zeke\, Steelville\, United States
ATTACH;FMTTYPE=image/png:https://www.steelvillearts.org/wp-content/uploads/2024/03/image.png
END:VEVENT
END:VCALENDAR