BEGIN:VCALENDAR
VERSION:2.0
PRODID:-//STARCO - ECPv6.15.14//NONSGML v1.0//EN
CALSCALE:GREGORIAN
METHOD:PUBLISH
X-ORIGINAL-URL:https://www.steelvillearts.org
X-WR-CALDESC:Events for STARCO
REFRESH-INTERVAL;VALUE=DURATION:PT1H
X-Robots-Tag:noindex
X-PUBLISHED-TTL:PT1H
BEGIN:VTIMEZONE
TZID:America/Chicago
BEGIN:DAYLIGHT
TZOFFSETFROM:-0600
TZOFFSETTO:-0500
TZNAME:CDT
DTSTART:20240310T080000
END:DAYLIGHT
BEGIN:STANDARD
TZOFFSETFROM:-0500
TZOFFSETTO:-0600
TZNAME:CST
DTSTART:20241103T070000
END:STANDARD
BEGIN:DAYLIGHT
TZOFFSETFROM:-0600
TZOFFSETTO:-0500
TZNAME:CDT
DTSTART:20250309T080000
END:DAYLIGHT
BEGIN:STANDARD
TZOFFSETFROM:-0500
TZOFFSETTO:-0600
TZNAME:CST
DTSTART:20251102T070000
END:STANDARD
BEGIN:DAYLIGHT
TZOFFSETFROM:-0600
TZOFFSETTO:-0500
TZNAME:CDT
DTSTART:20260308T080000
END:DAYLIGHT
BEGIN:STANDARD
TZOFFSETFROM:-0500
TZOFFSETTO:-0600
TZNAME:CST
DTSTART:20261101T070000
END:STANDARD
END:VTIMEZONE
BEGIN:VEVENT
DTSTART;TZID=America/Chicago:20251003T080000
DTEND;TZID=America/Chicago:20251025T170000
DTSTAMP:20260422T010815
CREATED:20250212T210305Z
LAST-MODIFIED:20250212T210307Z
UID:2696-1759478400-1761411600@www.steelvillearts.org
SUMMARY:Woodcarving/Woodcraft "Into the Wood"
DESCRIPTION:Wood can be made into so many beautiful things! We are trying to represent as many as possible\, made by local area craftsmen and artists.\n\n\n11-4 Friday/Saturday\n11-3 Sunday\n\nRECEPTION October 3rd 4-7pm\n\nCALL FOR ARTISTS
URL:https://www.steelvillearts.org/event/woodcarving-woodcraft-into-the-wood/
LOCATION:Gallery Zeke\, Steelville\, United States
ATTACH;FMTTYPE=image/png:https://www.steelvillearts.org/wp-content/uploads/2025/02/image-1-1.png
END:VEVENT
BEGIN:VEVENT
DTSTART;TZID=America/Chicago:20251025T100000
DTEND;TZID=America/Chicago:20251025T150000
DTSTAMP:20260422T010815
CREATED:20250719T212446Z
LAST-MODIFIED:20250719T212510Z
UID:3113-1761386400-1761404400@www.steelvillearts.org
SUMMARY:Festival of Arts
DESCRIPTION:Festival of Arts\nOCTOBER 25\, 2025 10am-3pm\nat Heartland Arts Gifts and Gallery\n303 West Main Street\, Steelville\, Mo 65565 \nREGISTER HERE
URL:https://www.steelvillearts.org/event/festival-of-arts/
LOCATION:Heartland Arts Gifts & Gallery\, 303 Main Street\, Steelville\, 65565\, United States
END:VEVENT
END:VCALENDAR